BEGIN:VCALENDAR
VERSION:2.0
PRODID:-//Tukios.com/
BEGIN:VEVENT
UID:b52aead6-9d32-49b7-a279-49ecc653cc4b@www.mcgriffandtriplettfh.com
DTSTAMP:20260422T021606Z
DTSTART:20260424T230000Z
DTEND:20260425T010000Z
SUMMARY:Visitation
DESCRIPTION:
URL:https://www.mcgriffandtriplettfh.com/obituaries/david-brimberry
LOCATION:McGriff Funeral Home 115 North Jefferson Street  Kinmundy IL 
	62854
GEO:38.7743032;-88.8483549
END:VEVENT
END:VCALENDAR