BEGIN:VCALENDAR
VERSION:2.0
PRODID:-//Tukios.com/
BEGIN:VEVENT
UID:e9f67cae-e6ab-495a-8ae2-f7014f510221@www.mcgriffandtriplettfh.com
DTSTAMP:20260422T021315Z
DTSTART:20260425T160000Z
DTEND:20260425T163000Z
SUMMARY:Graveside Service
DESCRIPTION:
URL:https://www.mcgriffandtriplettfh.com/obituaries/david-brimberry
LOCATION:Evergreen Cemetery Railroad Street  Kinmundy IL 62854
GEO:38.7789344;-88.8547339
END:VEVENT
END:VCALENDAR